BEGIN:VCALENDAR
VERSION:2.0
PRODID:-//Siloah - ECPv6.14.2//NONSGML v1.0//EN
CALSCALE:GREGORIAN
METHOD:PUBLISH
X-WR-CALNAME:Siloah
X-ORIGINAL-URL:https://siloah-muenchen.de
X-WR-CALDESC:Veranstaltungen für Siloah
REFRESH-INTERVAL;VALUE=DURATION:PT1H
X-Robots-Tag:noindex
X-PUBLISHED-TTL:PT1H
BEGIN:VTIMEZONE
TZID:Europe/Berlin
BEGIN:DAYLIGHT
TZOFFSETFROM:+0100
TZOFFSETTO:+0200
TZNAME:CEST
DTSTART:20260329T010000
END:DAYLIGHT
BEGIN:STANDARD
TZOFFSETFROM:+0200
TZOFFSETTO:+0100
TZNAME:CET
DTSTART:20261025T010000
END:STANDARD
END:VTIMEZONE
BEGIN:VEVENT
DTSTART;TZID=Europe/Berlin:20260423T190000
DTEND;TZID=Europe/Berlin:20260423T210000
DTSTAMP:20260422T014400
CREATED:20260330T212211Z
LAST-MODIFIED:20260330T212213Z
UID:3449-1776970800-1776978000@siloah-muenchen.de
SUMMARY:Kegelgruppe
DESCRIPTION:
URL:https://siloah-muenchen.de/veranstaltungen/kegelgruppe
LOCATION:TSV Milbertshofen\, Hans-Denzinger-Straße 2\, München\, Bayern\, 80807\, Germany
END:VEVENT
BEGIN:VEVENT
DTSTART;TZID=Europe/Berlin:20260424T173000
DTEND;TZID=Europe/Berlin:20260424T193000
DTSTAMP:20260422T014400
CREATED:20260330T211522Z
LAST-MODIFIED:20260330T211523Z
UID:3437-1777051800-1777059000@siloah-muenchen.de
SUMMARY:Historische Führung im Klinikum Dritter Orden
DESCRIPTION:Bei einem historischen Rundgang führt Dr. Rüdiger Schaar durch das Klinikum Dritter Orden\, das 1912 gegründet wurde. Er beleuchtet seine bewegte Geschichte\, zeigt verborgene Winkel des Hauses und lässt den Klinikalltag vergangener Zeiten lebendig werden. Räume\, die sonst im Verborgenen bleiben\, geben Einblicke in eine Welt zwischen Tradition und Moderne. Der Arzt erzählt dabei von über einem Jahrhundert mit medizinischem Fortschritt und ständiger Weiterentwicklung.Treffpunkt: 17:15 Uhr Eingangshalle Kinderklinik Dritter Orden\, Franz-Schrank-Str. 8Anfahrt: Tram 17\, Bus 143 und 180 Haltestelle Botanischer GartenEnde: 19:30 UhrAnmeldeschluss: Dienstag\, 21.04.2026
URL:https://siloah-muenchen.de/veranstaltungen/historische-fuehrung-im-klinikum-dritter-orden
LOCATION:Klinikum Dritter Orden\, Menzinger Str. 44\, München\, Bayern\, 80638\, Germany
END:VEVENT
BEGIN:VEVENT
DTSTART;TZID=Europe/Berlin:20260425T150000
DTEND;TZID=Europe/Berlin:20260425T180000
DTSTAMP:20260422T014400
CREATED:20260330T212301Z
LAST-MODIFIED:20260330T212316Z
UID:3454-1777129200-1777140000@siloah-muenchen.de
SUMMARY:Kunstbegegnungen – eine offene Kunstwerkstatt
DESCRIPTION:Wir wollen gemeinsam zeichnen\, malen und kreativ sein. Es wird auch Zeit für Gespräche geben. Wir haben Papier\, Stifte\, Farben und viele andere Materialien. Alle sind herzlich willkommen – vom Profi bis zum Anfänger. Das Angebot ist kostenlos.Wir bitten um Anmeldung bis Freitag\, 24.04.2026 im Siloah
URL:https://siloah-muenchen.de/veranstaltungen/kunstbegegnungen-eine-offene-kunstwerkstatt-2
LOCATION:Siloah\, Riesenfeldstraße 18\, München\, Bayern\, 80829\, Deutschland
END:VEVENT
BEGIN:VEVENT
DTSTART;TZID=Europe/Berlin:20260428T180000
DTEND;TZID=Europe/Berlin:20260428T200000
DTSTAMP:20260422T014400
CREATED:20260330T212006Z
LAST-MODIFIED:20260330T212008Z
UID:3447-1777399200-1777406400@siloah-muenchen.de
SUMMARY:Filmabend: Das Kanu des Manitu
DESCRIPTION:Die Fortsetzung des Kultfilmes „Der Schuh des Manitu“ lockte letztes Jahr 6 Millionen Zuschauer ins Kino. Abahachi\, der Häuptling der Apachen\, und sein weißer Blutsbruder Ranger kämpfen unermüdlich für Frieden und Gerechtigkeit – doch eine neue\, aufstrebende Bande macht ihnen das Leben besonders schwer!Für Snacks ist gesorgt!Um Anmeldung bis Montag\, 27. April 2026 im Siloah wird gebeten.
URL:https://siloah-muenchen.de/veranstaltungen/filmabend-das-kanu-des-manitu
LOCATION:Siloah\, Riesenfeldstraße 18\, München\, Bayern\, 80829\, Deutschland
END:VEVENT
END:VCALENDAR